BEGIN:VCALENDAR
VERSION:2.0
PRODID:-//Franktown Church - ECPv6.15.20//NONSGML v1.0//EN
CALSCALE:GREGORIAN
METHOD:PUBLISH
X-WR-CALNAME:Franktown Church
X-ORIGINAL-URL:https://franktown.church
X-WR-CALDESC:Events for Franktown Church
REFRESH-INTERVAL;VALUE=DURATION:PT1H
X-Robots-Tag:noindex
X-PUBLISHED-TTL:PT1H
BEGIN:VTIMEZONE
TZID:America/Denver
BEGIN:DAYLIGHT
TZOFFSETFROM:-0700
TZOFFSETTO:-0600
TZNAME:MDT
DTSTART:20250309T090000
END:DAYLIGHT
BEGIN:STANDARD
TZOFFSETFROM:-0600
TZOFFSETTO:-0700
TZNAME:MST
DTSTART:20251102T080000
END:STANDARD
BEGIN:DAYLIGHT
TZOFFSETFROM:-0700
TZOFFSETTO:-0600
TZNAME:MDT
DTSTART:20260308T090000
END:DAYLIGHT
BEGIN:STANDARD
TZOFFSETFROM:-0600
TZOFFSETTO:-0700
TZNAME:MST
DTSTART:20261101T080000
END:STANDARD
BEGIN:DAYLIGHT
TZOFFSETFROM:-0700
TZOFFSETTO:-0600
TZNAME:MDT
DTSTART:20270314T090000
END:DAYLIGHT
BEGIN:STANDARD
TZOFFSETFROM:-0600
TZOFFSETTO:-0700
TZNAME:MST
DTSTART:20271107T080000
END:STANDARD
END:VTIMEZONE
BEGIN:VEVENT
DTSTART;TZID=America/Denver:20260716T073000
DTEND;TZID=America/Denver:20260716T083000
DTSTAMP:20260423T132340
CREATED:20260423T191217Z
LAST-MODIFIED:20260423T191217Z
UID:10026370-1784187000-1784190600@franktown.church
SUMMARY:Thursday Morning Prayer
DESCRIPTION:Begin your day with peace and purpose at our Morning Prayer Time\, held at the church every morning at 7:30 AM. This quiet time of prayer and reflection is an opportunity to connect with God\, seek His guidance\, and start the day with a renewed spirit. \nSteps to Christ p. 100“Keep your wants\, your joys\, your sorrows\, your cares\, and your fears before God. You cannot burden Him: you cannot weary Him. He who numbers the hairs of your head is not indifferent to the wants of His children. “The lord is verv pitiful. and of tender mercy” (James 5:11). His heart of love is touched by our sorrows and even by our utterances of them. Take to Him everything that perplexes the mind. nothing is too great for HIm to bear\, fohe holds up worlds. He rules over all the affairs of the universe.” \n1 Thessalonians 5:16-18Rejoice always\, pray without ceasing\, give thanks in all circumstances; for this is the will of God in CHrist Jesus for you.
URL:https://franktown.church/event/thursday-morning-prayer-2026-07-16-2/
ATTACH;FMTTYPE=image/jpeg:https://franktown.church/wp-content/uploads/2026/04/pco-event-image-69e18ae083782.jpg
END:VEVENT
BEGIN:VEVENT
DTSTART;TZID=America/Denver:20260716T183000
DTEND;TZID=America/Denver:20260716T203000
DTSTAMP:20260423T132340
CREATED:20260423T191217Z
LAST-MODIFIED:20260423T191217Z
UID:10026371-1784226600-1784233800@franktown.church
SUMMARY:Church Board Meeting
DESCRIPTION:The administration of the Franktown church leadership.
URL:https://franktown.church/event/church-board-meeting-2026-07-16-2/
ATTACH;FMTTYPE=image/jpeg:https://franktown.church/wp-content/uploads/2026/04/pco-event-image-69e18ae12051a.jpg
END:VEVENT
END:VCALENDAR