BEGIN:VCALENDAR
VERSION:2.0
PRODID:-//Franktown Church - ECPv6.15.20//NONSGML v1.0//EN
CALSCALE:GREGORIAN
METHOD:PUBLISH
X-ORIGINAL-URL:https://franktown.church
X-WR-CALDESC:Events for Franktown Church
REFRESH-INTERVAL;VALUE=DURATION:PT1H
X-Robots-Tag:noindex
X-PUBLISHED-TTL:PT1H
BEGIN:VTIMEZONE
TZID:America/Denver
BEGIN:DAYLIGHT
TZOFFSETFROM:-0700
TZOFFSETTO:-0600
TZNAME:MDT
DTSTART:20250309T090000
END:DAYLIGHT
BEGIN:STANDARD
TZOFFSETFROM:-0600
TZOFFSETTO:-0700
TZNAME:MST
DTSTART:20251102T080000
END:STANDARD
BEGIN:DAYLIGHT
TZOFFSETFROM:-0700
TZOFFSETTO:-0600
TZNAME:MDT
DTSTART:20260308T090000
END:DAYLIGHT
BEGIN:STANDARD
TZOFFSETFROM:-0600
TZOFFSETTO:-0700
TZNAME:MST
DTSTART:20261101T080000
END:STANDARD
BEGIN:DAYLIGHT
TZOFFSETFROM:-0700
TZOFFSETTO:-0600
TZNAME:MDT
DTSTART:20270314T090000
END:DAYLIGHT
BEGIN:STANDARD
TZOFFSETFROM:-0600
TZOFFSETTO:-0700
TZNAME:MST
DTSTART:20271107T080000
END:STANDARD
END:VTIMEZONE
BEGIN:VEVENT
DTSTART;TZID=America/Denver:20260623T073000
DTEND;TZID=America/Denver:20260623T083000
DTSTAMP:20260423T120502
CREATED:20260423T170818Z
LAST-MODIFIED:20260423T170818Z
UID:10026324-1782199800-1782203400@franktown.church
SUMMARY:Tuesday Morning Prayer
DESCRIPTION:Begin your day with peace and purpose at our Morning Prayer Time\, held at the church every morning at 7:30 AM. This quiet time of prayer and reflection is an opportunity to connect with God\, seek His guidance\, and start the day with a renewed spirit. \nSteps to Christ p. 100“Keep your wants\, your joys\, your sorrows\, your cares\, and your fears before God. You cannot burden Him: you cannot weary Him. He who numbers the hairs of your head is not indifferent to the wants of His children. “The lord is verv pitiful. and of tender mercy” (James 5:11). His heart of love is touched by our sorrows and even by our utterances of them. Take to Him everything that perplexes the mind. nothing is too great for HIm to bear\, fohe holds up worlds. He rules over all the affairs of the universe.” \n1 Thessalonians 5:16-18Rejoice always\, pray without ceasing\, give thanks in all circumstances; for this is the will of God in CHrist Jesus for you.
URL:https://franktown.church/event/tuesday-morning-prayer-2026-06-23-2/
ATTACH;FMTTYPE=image/jpeg:https://franktown.church/wp-content/uploads/2026/04/pco-event-image-69dc84cd76c06.jpg
END:VEVENT
BEGIN:VEVENT
DTSTART;TZID=America/Denver:20260623T190000
DTEND;TZID=America/Denver:20260623T200000
DTSTAMP:20260423T120502
CREATED:20260423T170818Z
LAST-MODIFIED:20260423T170818Z
UID:10026325-1782241200-1782244800@franktown.church
SUMMARY:Unveiling Revelation
DESCRIPTION:Unveiling Revelation is a free 26-week verse-by-verse journey through the entire book of Revelation — from the seven churches of Asia Minor to the new heaven and new earth. Whether you’ve studied Bible prophecy for years or are opening Revelation for the first time\, this study is designed for you. \n\nWe meet live on Zoom every Tuesday evening at 7:00 PM Mountain Time\, February 3 through August 11\, 2026. Each session includes a downloadable study handout and is recorded so you can catch up at your own pace. \n\nNearly 70 percent of Revelation alludes to the Old Testament. Rather than relying on speculation\, we let the Bible explain itself — tracing every image\, number\, and symbol back to its biblical source. Four threads run through every chapter: Character\, Garments\, Choices\, and the ultimate question — who will you worship? \n\nTopics include the seven churches\, the throne room of God\, the seven seals and four horsemen\, the seven trumpets\, the great controversy between Christ and Satan\, the mark of the beast\, the three angels’ messages\, the seven last plagues\, the fall of Babylon\, the second coming\, the millennium\, and the new earth. \n\nTo join\, text “prophecy” to (719) 416-4446 and you’ll receive the Zoom link by text each Tuesday. There is no cost and no registration. Weekly handouts are available for download and recordings are posted after each session at franktown.church/unveiling-revelation.
URL:https://franktown.church/event/unveiling-revelation-2026-06-23-2/
ATTACH;FMTTYPE=image/png:https://franktown.church/wp-content/uploads/2026/04/pco-event-image-69dc84cdcb9b9.png
END:VEVENT
END:VCALENDAR