BEGIN:VCALENDAR
VERSION:2.0
PRODID:-//Franktown Church - ECPv6.15.20//NONSGML v1.0//EN
CALSCALE:GREGORIAN
METHOD:PUBLISH
X-WR-CALNAME:Franktown Church
X-ORIGINAL-URL:https://franktown.church
X-WR-CALDESC:Events for Franktown Church
REFRESH-INTERVAL;VALUE=DURATION:PT1H
X-Robots-Tag:noindex
X-PUBLISHED-TTL:PT1H
BEGIN:VTIMEZONE
TZID:America/Denver
BEGIN:DAYLIGHT
TZOFFSETFROM:-0700
TZOFFSETTO:-0600
TZNAME:MDT
DTSTART:20250309T090000
END:DAYLIGHT
BEGIN:STANDARD
TZOFFSETFROM:-0600
TZOFFSETTO:-0700
TZNAME:MST
DTSTART:20251102T080000
END:STANDARD
BEGIN:DAYLIGHT
TZOFFSETFROM:-0700
TZOFFSETTO:-0600
TZNAME:MDT
DTSTART:20260308T090000
END:DAYLIGHT
BEGIN:STANDARD
TZOFFSETFROM:-0600
TZOFFSETTO:-0700
TZNAME:MST
DTSTART:20261101T080000
END:STANDARD
BEGIN:DAYLIGHT
TZOFFSETFROM:-0700
TZOFFSETTO:-0600
TZNAME:MDT
DTSTART:20270314T090000
END:DAYLIGHT
BEGIN:STANDARD
TZOFFSETFROM:-0600
TZOFFSETTO:-0700
TZNAME:MST
DTSTART:20271107T080000
END:STANDARD
END:VTIMEZONE
BEGIN:VEVENT
DTSTART;TZID=America/Denver:20260429T060000
DTEND;TZID=America/Denver:20260429T063000
DTSTAMP:20260423T085712
CREATED:20260423T144245Z
LAST-MODIFIED:20260423T144245Z
UID:10026217-1777442400-1777444200@franktown.church
SUMMARY:Wed AM Prayer Group
DESCRIPTION:Join us via zoom for a morning prayer time.
URL:https://franktown.church/event/wed-am-prayer-group-2026-04-29/
ATTACH;FMTTYPE=image/jpeg:https://franktown.church/wp-content/uploads/2026/04/pco-event-image-69dc8497d2d9e.jpg
END:VEVENT
BEGIN:VEVENT
DTSTART;TZID=America/Denver:20260429T170000
DTEND;TZID=America/Denver:20260429T180000
DTSTAMP:20260423T085712
CREATED:20260423T144245Z
LAST-MODIFIED:20260423T144245Z
UID:10026218-1777482000-1777485600@franktown.church
SUMMARY:Aging Resources Orientation
DESCRIPTION:The nonprofit Aging Resources of Douglas County will provide an orientation to all who are interested in learning more about volunteering with the elderly/home bound.  This is a great opportunity for Teams for Service! \nWays to help:  become a driver\, adopt a grandparent\, yard work\, light handyman work\, provide companionship\, work in the office. \nThere are so many fun ways to make a difference in someone’s life! \nPlease see Marlene Zandell or Heidi Hainault for more information.
URL:https://franktown.church/event/aging-resources-orientation-2026-04-29/
ATTACH;FMTTYPE=image/jpeg:https://franktown.church/wp-content/uploads/2026/04/pco-event-image-69dc8498279d1.jpg
END:VEVENT
BEGIN:VEVENT
DTSTART;TZID=America/Denver:20260429T183000
DTEND;TZID=America/Denver:20260429T193000
DTSTAMP:20260423T085712
CREATED:20260423T144245Z
LAST-MODIFIED:20260423T144245Z
UID:10026219-1777487400-1777491000@franktown.church
SUMMARY:Prayer Meeting
DESCRIPTION:Experience the power of prayer and fellowship every Wednesday at 6:30 PM. This midweek gathering offers an opportunity to connect with God and each other through heartfelt prayers\, meaningful discussions\, and spiritual encouragement. \nSteps to Christ p. 100“Keep your wants\, your joys\, your sorrows\, your cares\, and your fears before God. You cannot burden Him: you cannot weary Him. He who numbers the hairs of your head is not indifferent to the wants of His children. “The lord is verv pitiful. and of tender mercy” (James 5:11). His heart of love is touched by our sorrows and even by our utterances of them. Take to Him everything that perplexes the mind. nothing is too great for HIm to bear\, fohe holds up worlds. He rules over all the affairs of the universe.” \n1 Thessalonians 5:16-18Rejoice always\, pray without ceasing\, give thanks in all circumstances; for this is the will of God in CHrist Jesus for you.
URL:https://franktown.church/event/prayer-meeting-2026-04-29/
ATTACH;FMTTYPE=image/jpeg:https://franktown.church/wp-content/uploads/2026/04/pco-event-image-69dc849860478.jpg
END:VEVENT
END:VCALENDAR