BEGIN:VCALENDAR
VERSION:2.0
PRODID:-//Franktown Church - ECPv6.15.20//NONSGML v1.0//EN
CALSCALE:GREGORIAN
METHOD:PUBLISH
X-WR-CALNAME:Franktown Church
X-ORIGINAL-URL:https://franktown.church
X-WR-CALDESC:Events for Franktown Church
REFRESH-INTERVAL;VALUE=DURATION:PT1H
X-Robots-Tag:noindex
X-PUBLISHED-TTL:PT1H
BEGIN:VTIMEZONE
TZID:America/Denver
BEGIN:DAYLIGHT
TZOFFSETFROM:-0700
TZOFFSETTO:-0600
TZNAME:MDT
DTSTART:20250309T090000
END:DAYLIGHT
BEGIN:STANDARD
TZOFFSETFROM:-0600
TZOFFSETTO:-0700
TZNAME:MST
DTSTART:20251102T080000
END:STANDARD
BEGIN:DAYLIGHT
TZOFFSETFROM:-0700
TZOFFSETTO:-0600
TZNAME:MDT
DTSTART:20260308T090000
END:DAYLIGHT
BEGIN:STANDARD
TZOFFSETFROM:-0600
TZOFFSETTO:-0700
TZNAME:MST
DTSTART:20261101T080000
END:STANDARD
BEGIN:DAYLIGHT
TZOFFSETFROM:-0700
TZOFFSETTO:-0600
TZNAME:MDT
DTSTART:20270314T090000
END:DAYLIGHT
BEGIN:STANDARD
TZOFFSETFROM:-0600
TZOFFSETTO:-0700
TZNAME:MST
DTSTART:20271107T080000
END:STANDARD
END:VTIMEZONE
BEGIN:VEVENT
DTSTART;TZID=America/Denver:20260526T190000
DTEND;TZID=America/Denver:20260526T200000
DTSTAMP:20260423T120520
CREATED:20260423T180137Z
LAST-MODIFIED:20260423T180137Z
UID:66692-1779822000-1779825600@franktown.church
SUMMARY:Unveiling Revelation
DESCRIPTION:Unveiling Revelation is a free 26-week verse-by-verse journey through the entire book of Revelation — from the seven churches of Asia Minor to the new heaven and new earth. Whether you’ve studied Bible prophecy for years or are opening Revelation for the first time\, this study is designed for you. \n\nWe meet live on Zoom every Tuesday evening at 7:00 PM Mountain Time\, February 3 through August 11\, 2026. Each session includes a downloadable study handout and is recorded so you can catch up at your own pace. \n\nNearly 70 percent of Revelation alludes to the Old Testament. Rather than relying on speculation\, we let the Bible explain itself — tracing every image\, number\, and symbol back to its biblical source. Four threads run through every chapter: Character\, Garments\, Choices\, and the ultimate question — who will you worship? \n\nTopics include the seven churches\, the throne room of God\, the seven seals and four horsemen\, the seven trumpets\, the great controversy between Christ and Satan\, the mark of the beast\, the three angels’ messages\, the seven last plagues\, the fall of Babylon\, the second coming\, the millennium\, and the new earth. \n\nTo join\, text “prophecy” to (719) 416-4446 and you’ll receive the Zoom link by text each Tuesday. There is no cost and no registration. Weekly handouts are available for download and recordings are posted after each session at franktown.church/unveiling-revelation.
URL:https://franktown.church/event/unveiling-revelation-2026-05-26-2/
ATTACH;FMTTYPE=image/png:https://franktown.church/wp-content/uploads/2026/04/pco-event-image-69dc84b37b443.png
END:VEVENT
END:VCALENDAR