BEGIN:VCALENDAR
VERSION:2.0
PRODID:-//Franktown Church - ECPv6.15.20//NONSGML v1.0//EN
CALSCALE:GREGORIAN
METHOD:PUBLISH
X-WR-CALNAME:Franktown Church
X-ORIGINAL-URL:https://franktown.church
X-WR-CALDESC:Events for Franktown Church
REFRESH-INTERVAL;VALUE=DURATION:PT1H
X-Robots-Tag:noindex
X-PUBLISHED-TTL:PT1H
BEGIN:VTIMEZONE
TZID:America/Denver
BEGIN:DAYLIGHT
TZOFFSETFROM:-0700
TZOFFSETTO:-0600
TZNAME:MDT
DTSTART:20250309T090000
END:DAYLIGHT
BEGIN:STANDARD
TZOFFSETFROM:-0600
TZOFFSETTO:-0700
TZNAME:MST
DTSTART:20251102T080000
END:STANDARD
BEGIN:DAYLIGHT
TZOFFSETFROM:-0700
TZOFFSETTO:-0600
TZNAME:MDT
DTSTART:20260308T090000
END:DAYLIGHT
BEGIN:STANDARD
TZOFFSETFROM:-0600
TZOFFSETTO:-0700
TZNAME:MST
DTSTART:20261101T080000
END:STANDARD
BEGIN:DAYLIGHT
TZOFFSETFROM:-0700
TZOFFSETTO:-0600
TZNAME:MDT
DTSTART:20270314T090000
END:DAYLIGHT
BEGIN:STANDARD
TZOFFSETFROM:-0600
TZOFFSETTO:-0700
TZNAME:MST
DTSTART:20271107T080000
END:STANDARD
END:VTIMEZONE
BEGIN:VEVENT
DTSTART;TZID=America/Denver:20260418T000000
DTEND;TZID=America/Denver:20260418T235900
DTSTAMP:20260423T085813
CREATED:20260423T143600Z
LAST-MODIFIED:20260423T143600Z
UID:66545-1776470400-1776556740@franktown.church
SUMMARY:Communion Service
DESCRIPTION:Join us for our quarterly Communion Service\, a sacred time of reflection\, renewal\, and recommitment to Christ. The service includes the Ordinance of Humility (foot washing)\, symbolizing Jesus’ example of servant leadership\, followed by the sharing of the Lord’s Supper.This special worship experience reminds us of Jesus’ sacrifice and our hope in His soon return. We encourage all members and guests to participate in this meaningful service as we unite in faith and fellowship.
URL:https://franktown.church/event/communion-service-2026-04-18/
ATTACH;FMTTYPE=image/jpeg:https://franktown.church/wp-content/uploads/2026/04/pco-event-image-69dc848f318be.jpg
END:VEVENT
END:VCALENDAR