BEGIN:VCALENDAR
VERSION:2.0
PRODID:-//Franktown Church - ECPv6.15.20//NONSGML v1.0//EN
CALSCALE:GREGORIAN
METHOD:PUBLISH
X-WR-CALNAME:Franktown Church
X-ORIGINAL-URL:https://franktown.church
X-WR-CALDESC:Events for Franktown Church
REFRESH-INTERVAL;VALUE=DURATION:PT1H
X-Robots-Tag:noindex
X-PUBLISHED-TTL:PT1H
BEGIN:VTIMEZONE
TZID:America/Denver
BEGIN:DAYLIGHT
TZOFFSETFROM:-0700
TZOFFSETTO:-0600
TZNAME:MDT
DTSTART:20250309T090000
END:DAYLIGHT
BEGIN:STANDARD
TZOFFSETFROM:-0600
TZOFFSETTO:-0700
TZNAME:MST
DTSTART:20251102T080000
END:STANDARD
BEGIN:DAYLIGHT
TZOFFSETFROM:-0700
TZOFFSETTO:-0600
TZNAME:MDT
DTSTART:20260308T090000
END:DAYLIGHT
BEGIN:STANDARD
TZOFFSETFROM:-0600
TZOFFSETTO:-0700
TZNAME:MST
DTSTART:20261101T080000
END:STANDARD
BEGIN:DAYLIGHT
TZOFFSETFROM:-0700
TZOFFSETTO:-0600
TZNAME:MDT
DTSTART:20270314T090000
END:DAYLIGHT
BEGIN:STANDARD
TZOFFSETFROM:-0600
TZOFFSETTO:-0700
TZNAME:MST
DTSTART:20271107T080000
END:STANDARD
END:VTIMEZONE
BEGIN:VEVENT
DTSTART;TZID=America/Denver:20260530T100000
DTEND;TZID=America/Denver:20260530T110000
DTSTAMP:20260423T120334
CREATED:20260423T180137Z
LAST-MODIFIED:20260423T180137Z
UID:66706-1780135200-1780138800@franktown.church
SUMMARY:Church in Study
DESCRIPTION:Start your Sabbath morning with engaging Bible study and fellowship at 10:00 AM! Classes are available for all ages\, offering a fun and interactive way to grow in faith:\nChildren and Youth\n\nBeginners (0-3): Education Wing\nKindergarten (4-7): Education Wing\nPrimary (7-9): Education Wing\nPre-teen (10-12): Education Wing\nYouth (13-18): Education Wing\n\nAdults\n\nBible Foundations Class (Adults): Old Church Office\nAdult Classes: Sanctuary\n\nJoin us as we explore God’s Word and build connections in a warm and welcoming atmosphere!
URL:https://franktown.church/event/church-in-study-2026-05-30-2/
ATTACH;FMTTYPE=image/jpeg:https://franktown.church/wp-content/uploads/2026/04/pco-event-image-69dc84ba29aa7.jpg
END:VEVENT
END:VCALENDAR